BEGIN:VCALENDAR
VERSION:2.0
PRODID:icalendar-ruby
CALSCALE:GREGORIAN
METHOD:PUBLISH
BEGIN:VEVENT
DTSTAMP:20260421T144139Z
UID:2-2514878@millardalliance.com
DTSTART:20260920T153000Z
DTEND:20260920T170000Z
CLASS:PUBLIC
CREATED:20260421T081349
DESCRIPTION:Worship at 10:30 a.m. Message at 11:00 a.m.\nWe are meeting in-
 person at full capacity as well as online at www.millardalliance.com/live 
 or on www.facebook.com/millardalliance/live\nHand sanitizer stations are a
 vailable throughout the building\, and we encourage you\, if you are feeli
 ng ill or have been in contact with someone who is\, please join us online
 . \n\nJoin our online community on Facebook @millardalliance\n\n 
LAST-MODIFIED:20260421T081349
LOCATION:15405 Adams St - 68137
SUMMARY:Worship Service
URL;VALUE=URI:https://www.millardalliance.com/events/worship-service--2/202
 6-09-20
ATTACH;FILENAME=Hands in Worship.jpg;FMTTYPE=image/jpeg:https://dq5pwpg1q8r
 u0.cloudfront.net/2020/01/21/14/34/01/4cd4c6a4-b3d5-49a1-b46c-2dec70125e4d
 /Hands%20in%20Worship.jpg
END:VEVENT
END:VCALENDAR
